BEGIN:VCALENDAR
VERSION:2.0
PRODID:-//Palmetto Coastal Sportsmen - ECPv6.15.20//NONSGML v1.0//EN
CALSCALE:GREGORIAN
METHOD:PUBLISH
X-WR-CALNAME:Palmetto Coastal Sportsmen
X-ORIGINAL-URL:https://palmettocoastnwtf.com
X-WR-CALDESC:Events for Palmetto Coastal Sportsmen
REFRESH-INTERVAL;VALUE=DURATION:PT1H
X-Robots-Tag:noindex
X-PUBLISHED-TTL:PT1H
BEGIN:VTIMEZONE
TZID:America/New_York
BEGIN:DAYLIGHT
TZOFFSETFROM:-0500
TZOFFSETTO:-0400
TZNAME:EDT
DTSTART:20240310T070000
END:DAYLIGHT
BEGIN:STANDARD
TZOFFSETFROM:-0400
TZOFFSETTO:-0500
TZNAME:EST
DTSTART:20241103T060000
END:STANDARD
BEGIN:DAYLIGHT
TZOFFSETFROM:-0500
TZOFFSETTO:-0400
TZNAME:EDT
DTSTART:20250309T070000
END:DAYLIGHT
BEGIN:STANDARD
TZOFFSETFROM:-0400
TZOFFSETTO:-0500
TZNAME:EST
DTSTART:20251102T060000
END:STANDARD
BEGIN:DAYLIGHT
TZOFFSETFROM:-0500
TZOFFSETTO:-0400
TZNAME:EDT
DTSTART:20260308T070000
END:DAYLIGHT
BEGIN:STANDARD
TZOFFSETFROM:-0400
TZOFFSETTO:-0500
TZNAME:EST
DTSTART:20261101T060000
END:STANDARD
BEGIN:DAYLIGHT
TZOFFSETFROM:-0500
TZOFFSETTO:-0400
TZNAME:EDT
DTSTART:20270314T070000
END:DAYLIGHT
BEGIN:STANDARD
TZOFFSETFROM:-0400
TZOFFSETTO:-0500
TZNAME:EST
DTSTART:20271107T060000
END:STANDARD
END:VTIMEZONE
BEGIN:VEVENT
DTSTART;TZID=America/New_York:20260207T173000
DTEND;TZID=America/New_York:20260207T220000
DTSTAMP:20260425T152220
CREATED:20260110T004556Z
LAST-MODIFIED:20260206T153508Z
UID:434-1770485400-1770501600@palmettocoastnwtf.com
SUMMARY:2026 Hunting Heritage Banquet
DESCRIPTION:The National Wild Turkey Federation (NWTF) holds banquet events primarily to support conservation\, education\, and hunting heritage programs. Specifically\, these banquets serve several key purposes: \nRaise Funds for ConservationBanquets generate critical funding for wildlife habitat conservation\, land management\, and wild turkey restoration projects at the local\, state\, and national levels. \nSupport Youth & Education ProgramsProceeds help fund student scholarships\, JAKES (youth hunting and conservation programs)\, outdoor education\, and mentoring opportunities that introduce young people to conservation and hunting traditions. \nPreserve Hunting HeritageThe events promote ethical hunting\, outdoor traditions\, and responsible wildlife stewardship while bringing together hunters\, conservationists\, and community members. \nCommunity Engagement & AwarenessBanquets strengthen local chapters by building relationships among members\, sponsors\, and supporters\, while increasing awareness of NWTF’s mission: “Healthy Habitats. Healthy Harvests.” \nProvide Recognition & IncentivesSponsorships\, raffles\, auctions\, and giveaways encourage participation and recognize individuals and businesses that support NWTF’s conservation efforts. \nIn short\, NWTF banquets are both fundraisers and community celebrations\, designed to advance conservation\, invest in future generations\, and keep America’s hunting heritage strong. \n\n\n\n\n \n\n \n\n\n\n\n\n 
URL:https://palmettocoastnwtf.com/event/434/
LOCATION:Pointe West Country Club\, 7500 14th Lane\, Vero Beach\, FL\, 32966\, United States
END:VEVENT
BEGIN:VEVENT
DTSTART;TZID=America/New_York:20250727T100000
DTEND;TZID=America/New_York:20250727T160000
DTSTAMP:20260425T152220
CREATED:20250506T232334Z
LAST-MODIFIED:20250506T232334Z
UID:213-1753610400-1753632000@palmettocoastnwtf.com
SUMMARY:Vero Beach Gun Show
DESCRIPTION:Ages 14 under get in free. Parking is free\, Admission in cash only.
URL:https://palmettocoastnwtf.com/event/vero-beach-gun-show-2/
LOCATION:Indian River County Fairgrounds\, 7955 58th Ave\, Vero Beach\, FL\, 32967\, United States
END:VEVENT
BEGIN:VEVENT
DTSTART;TZID=America/New_York:20250726T090000
DTEND;TZID=America/New_York:20250726T170000
DTSTAMP:20260425T152220
CREATED:20250506T224808Z
LAST-MODIFIED:20250506T224808Z
UID:198-1753520400-1753549200@palmettocoastnwtf.com
SUMMARY:Vero Beach Gun Show
DESCRIPTION:Ages 14 and under get in free. Parking is free\, Admission in cash only.
URL:https://palmettocoastnwtf.com/event/vero-beach-gun-show/
LOCATION:Indian River County Fairgrounds\, 7955 58th Ave\, Vero Beach\, FL\, 32967\, United States
END:VEVENT
END:VCALENDAR